BEGIN:VCALENDAR
VERSION:2.0
PRODID:-//The Heritage School - ECPv6.11.2.1//NONSGML v1.0//EN
CALSCALE:GREGORIAN
METHOD:PUBLISH
X-WR-CALNAME:The Heritage School
X-ORIGINAL-URL:https://www.theheritageschool.net
X-WR-CALDESC:Events for The Heritage School
REFRESH-INTERVAL;VALUE=DURATION:PT1H
X-Robots-Tag:noindex
X-PUBLISHED-TTL:PT1H
BEGIN:VTIMEZONE
TZID:Europe/Helsinki
BEGIN:DAYLIGHT
TZOFFSETFROM:+0200
TZOFFSETTO:+0300
TZNAME:EEST
DTSTART:20240331T010000
END:DAYLIGHT
BEGIN:STANDARD
TZOFFSETFROM:+0300
TZOFFSETTO:+0200
TZNAME:EET
DTSTART:20241027T010000
END:STANDARD
END:VTIMEZONE
BEGIN:VEVENT
DTSTART;TZID=Europe/Helsinki:20240301T140000
DTEND;TZID=Europe/Helsinki:20240301T153000
DTSTAMP:20260419T192609
CREATED:20240124T131736Z
LAST-MODIFIED:20240124T131736Z
UID:78104-1709301600-1709307000@www.theheritageschool.net
SUMMARY:Indoor Hockey vs Chisipite
DESCRIPTION:
URL:https://www.theheritageschool.net/event/indoor-hockey-vs-chisipite-2/
LOCATION:Chisipite Senior School\, Hindhead Avenue\, Harare\, Zimbabwe
CATEGORIES:Indoor Hockey,Senior Department,Sports Fixture
ATTACH;FMTTYPE=image/jpeg:https://www.theheritageschool.net/wp-content/uploads/2024/01/Generic-Sports-Image-62-scaled-USF4vJ.tmp_.jpg
END:VEVENT
BEGIN:VEVENT
DTSTART;TZID=Europe/Helsinki:20240301T140000
DTEND;TZID=Europe/Helsinki:20240301T153000
DTSTAMP:20260419T192609
CREATED:20240124T131852Z
LAST-MODIFIED:20240124T131852Z
UID:78133-1709301600-1709307000@www.theheritageschool.net
SUMMARY:Indoor Hockey vs Hellenic
DESCRIPTION:
URL:https://www.theheritageschool.net/event/indoor-hockey-vs-hellenic-3/
CATEGORIES:Indoor Hockey,Senior Department,Sports Fixture
ATTACH;FMTTYPE=image/jpeg:https://www.theheritageschool.net/wp-content/uploads/2024/01/Generic-Sports-Image-62-scaled-USF4vJ.tmp_.jpg
END:VEVENT
BEGIN:VEVENT
DTSTART;TZID=Europe/Helsinki:20240306T140000
DTEND;TZID=Europe/Helsinki:20240306T160000
DTSTAMP:20260419T192609
CREATED:20240124T131934Z
LAST-MODIFIED:20240124T131934Z
UID:78152-1709733600-1709740800@www.theheritageschool.net
SUMMARY:Table Tennis vs Winwood
DESCRIPTION:
URL:https://www.theheritageschool.net/event/table-tennis-vs-winwood/
CATEGORIES:Senior Department,Sports Fixture,Table Tennis
ATTACH;FMTTYPE=image/jpeg:https://www.theheritageschool.net/wp-content/uploads/2018/10/Generic-Sports-Image-46.jpg
END:VEVENT
BEGIN:VEVENT
DTSTART;TZID=Europe/Helsinki:20240308T140000
DTEND;TZID=Europe/Helsinki:20240308T153000
DTSTAMP:20260419T192609
CREATED:20240124T131752Z
LAST-MODIFIED:20240124T131752Z
UID:78114-1709906400-1709911800@www.theheritageschool.net
SUMMARY:Indoor Hockey vs Hellenic
DESCRIPTION:
URL:https://www.theheritageschool.net/event/indoor-hockey-vs-hellenic/
LOCATION:Hellenic Academy\, 42 Basset Cres\, Harare\, Zimbabwe
CATEGORIES:Indoor Hockey,Senior Department,Sports Fixture
ATTACH;FMTTYPE=image/jpeg:https://www.theheritageschool.net/wp-content/uploads/2024/01/Generic-Sports-Image-62-scaled-USF4vJ.tmp_.jpg
END:VEVENT
BEGIN:VEVENT
DTSTART;TZID=Europe/Helsinki:20240308T140000
DTEND;TZID=Europe/Helsinki:20240308T153000
DTSTAMP:20260419T192609
CREATED:20240124T131909Z
LAST-MODIFIED:20240124T131909Z
UID:78139-1709906400-1709911800@www.theheritageschool.net
SUMMARY:Indoor Hockey vs St John's College
DESCRIPTION:
URL:https://www.theheritageschool.net/event/indoor-hockey-vs-st-johns-college/
CATEGORIES:Indoor Hockey,Senior Department,Sports Fixture
ATTACH;FMTTYPE=image/jpeg:https://www.theheritageschool.net/wp-content/uploads/2024/01/Generic-Sports-Image-62-scaled-USF4vJ.tmp_.jpg
END:VEVENT
BEGIN:VEVENT
DTSTART;TZID=Europe/Helsinki:20240313T140000
DTEND;TZID=Europe/Helsinki:20240313T160000
DTSTAMP:20260419T192609
CREATED:20240124T131756Z
LAST-MODIFIED:20240124T131756Z
UID:78118-1710338400-1710345600@www.theheritageschool.net
SUMMARY:Table Tennis vs Kuwadzana High
DESCRIPTION:
URL:https://www.theheritageschool.net/event/table-tennis-vs-kuwadzana-high/
LOCATION:Kuwadzana Secondary High School\, xx\, Harare\, Zimbabwe
CATEGORIES:Senior Department,Sports Fixture,Table Tennis
ATTACH;FMTTYPE=image/jpeg:https://www.theheritageschool.net/wp-content/uploads/2018/10/Generic-Sports-Image-46.jpg
END:VEVENT
BEGIN:VEVENT
DTSTART;TZID=Europe/Helsinki:20240313T150000
DTEND;TZID=Europe/Helsinki:20240313T170000
DTSTAMP:20260419T192609
CREATED:20240124T131732Z
LAST-MODIFIED:20240125T083028Z
UID:78102-1710342000-1710349200@www.theheritageschool.net
SUMMARY:Quiz vs Many Schools
DESCRIPTION:
URL:https://www.theheritageschool.net/event/quiz-vs-many-schools/
LOCATION:Bernard Mizeki College\, xx\, Harare\, Zimbabwe
CATEGORIES:Quiz,Senior Department,Sports Fixture
ATTACH;FMTTYPE=image/jpeg:https://www.theheritageschool.net/wp-content/uploads/2024/01/Generic-Sports-Image-61-scaled-rdH40Z.tmp_.jpg
END:VEVENT
BEGIN:VEVENT
DTSTART;TZID=Europe/Helsinki:20240315T140000
DTEND;TZID=Europe/Helsinki:20240315T153000
DTSTAMP:20260419T192609
CREATED:20240124T131753Z
LAST-MODIFIED:20240124T132133Z
UID:78115-1710511200-1710516600@www.theheritageschool.net
SUMMARY:Indoor Hockey vs Hellenic
DESCRIPTION:
URL:https://www.theheritageschool.net/event/indoor-hockey-vs-hellenic-2/
LOCATION:Hellenic Academy\, 42 Basset Cres\, Harare\, Zimbabwe
CATEGORIES:Indoor Hockey,Senior Department,Sports Fixture
ATTACH;FMTTYPE=image/jpeg:https://www.theheritageschool.net/wp-content/uploads/2024/01/Generic-Sports-Image-62-scaled-USF4vJ.tmp_.jpg
END:VEVENT
BEGIN:VEVENT
DTSTART;TZID=Europe/Helsinki:20240322T140000
DTEND;TZID=Europe/Helsinki:20240322T160000
DTSTAMP:20260419T192609
CREATED:20240124T131959Z
LAST-MODIFIED:20240124T131959Z
UID:78153-1711116000-1711123200@www.theheritageschool.net
SUMMARY:Table Tennis vs Bernard Mizeki
DESCRIPTION:
URL:https://www.theheritageschool.net/event/table-tennis-vs-bernard-mizeki/
CATEGORIES:Senior Department,Sports Fixture,Table Tennis
ATTACH;FMTTYPE=image/jpeg:https://www.theheritageschool.net/wp-content/uploads/2018/10/Generic-Sports-Image-46.jpg
END:VEVENT
END:VCALENDAR