BEGIN:VCALENDAR
VERSION:2.0
PRODID:-//The Heritage School - ECPv6.11.2.1//NONSGML v1.0//EN
CALSCALE:GREGORIAN
METHOD:PUBLISH
X-WR-CALNAME:The Heritage School
X-ORIGINAL-URL:https://www.theheritageschool.net
X-WR-CALDESC:Events for The Heritage School
REFRESH-INTERVAL;VALUE=DURATION:PT1H
X-Robots-Tag:noindex
X-PUBLISHED-TTL:PT1H
BEGIN:VTIMEZONE
TZID:Europe/Helsinki
BEGIN:DAYLIGHT
TZOFFSETFROM:+0200
TZOFFSETTO:+0300
TZNAME:EEST
DTSTART:20240331T010000
END:DAYLIGHT
BEGIN:STANDARD
TZOFFSETFROM:+0300
TZOFFSETTO:+0200
TZNAME:EET
DTSTART:20241027T010000
END:STANDARD
END:VTIMEZONE
BEGIN:VEVENT
DTSTART;TZID=Europe/Helsinki:20240131T140000
DTEND;TZID=Europe/Helsinki:20240131T163000
DTSTAMP:20260420T075340
CREATED:20240124T131811Z
LAST-MODIFIED:20240124T131811Z
UID:78123-1706709600-1706718600@www.theheritageschool.net
SUMMARY:Basketball vs Peterhouse College (Boys)
DESCRIPTION:
URL:https://www.theheritageschool.net/event/basketball-vs-peterhouse-college-boys/
LOCATION:Peterhouse College (Boys)\, Peterhouse Boys\, P Bag 3741\,\, Marondera\, Marondera\, Marondera\, Zimbabwe
CATEGORIES:Basketball,Senior Department,Sports Fixture
ATTACH;FMTTYPE=image/jpeg:https://www.theheritageschool.net/wp-content/uploads/2018/10/Generic-Sports-Image-6.jpg
END:VEVENT
BEGIN:VEVENT
DTSTART;TZID=Europe/Helsinki:20240131T140000
DTEND;TZID=Europe/Helsinki:20240131T160000
DTSTAMP:20260420T075340
CREATED:20240125T083209Z
LAST-MODIFIED:20240125T083209Z
UID:78247-1706709600-1706716800@www.theheritageschool.net
SUMMARY:Chess vs Wise Owl
DESCRIPTION:
URL:https://www.theheritageschool.net/event/chess-vs-wise-owl/
ATTACH;FMTTYPE=image/jpeg:https://www.theheritageschool.net/wp-content/uploads/2024/01/Generic-Sports-Image-60-scaled-p4A78d.tmp_.jpg
END:VEVENT
BEGIN:VEVENT
DTSTART;TZID=Europe/Helsinki:20240131T140000
DTEND;TZID=Europe/Helsinki:20240131T160000
DTSTAMP:20260420T075340
CREATED:20240124T131930Z
LAST-MODIFIED:20240129T062353Z
UID:78148-1706709600-1706716800@www.theheritageschool.net
SUMMARY:Table Tennis vs St Georges & Dominican Convent
DESCRIPTION:
URL:https://www.theheritageschool.net/event/table-tennis-vs-st-georges-domincan-dominican-convent/
CATEGORIES:Senior Department,Sports Fixture,Table Tennis
ATTACH;FMTTYPE=image/jpeg:https://www.theheritageschool.net/wp-content/uploads/2018/10/Generic-Sports-Image-46.jpg
END:VEVENT
BEGIN:VEVENT
DTSTART;TZID=Europe/Helsinki:20240127T090000
DTEND;TZID=Europe/Helsinki:20240127T150000
DTSTAMP:20260420T075340
CREATED:20240124T131924Z
LAST-MODIFIED:20240124T131924Z
UID:78144-1706346000-1706367600@www.theheritageschool.net
SUMMARY:Cricket vs Nattie
DESCRIPTION:
URL:https://www.theheritageschool.net/event/cricket-vs-nattie/
CATEGORIES:Cricket,Senior Department,Sports Fixture
ATTACH;FMTTYPE=image/jpeg:https://www.theheritageschool.net/wp-content/uploads/2018/10/Generic-Sports-Image-10.jpg
END:VEVENT
BEGIN:VEVENT
DTSTART;TZID=Europe/Helsinki:20240125T153000
DTEND;TZID=Europe/Helsinki:20240125T170000
DTSTAMP:20260420T075340
CREATED:20240124T131839Z
LAST-MODIFIED:20240124T131839Z
UID:78130-1706196600-1706202000@www.theheritageschool.net
SUMMARY:Indoor Hockey vs Dominican Convent
DESCRIPTION:
URL:https://www.theheritageschool.net/event/indoor-hockey-vs-dominican-convent/
CATEGORIES:Indoor Hockey,Senior Department,Sports Fixture
ATTACH;FMTTYPE=image/jpeg:https://www.theheritageschool.net/wp-content/uploads/2024/01/Generic-Sports-Image-62-scaled-USF4vJ.tmp_.jpg
END:VEVENT
BEGIN:VEVENT
DTSTART;TZID=Europe/Helsinki:20240125T150000
DTEND;TZID=Europe/Helsinki:20240125T163000
DTSTAMP:20260420T075340
CREATED:20240124T131927Z
LAST-MODIFIED:20240124T131927Z
UID:78147-1706194800-1706200200@www.theheritageschool.net
SUMMARY:Chess vs Dominican Dominican Convent
DESCRIPTION:
URL:https://www.theheritageschool.net/event/chess-vs-dominican-dominican-convent/
CATEGORIES:Chess,Senior Department,Sports Fixture
ATTACH;FMTTYPE=image/jpeg:https://www.theheritageschool.net/wp-content/uploads/2024/01/Generic-Sports-Image-60-scaled-p4A78d.tmp_.jpg
END:VEVENT
BEGIN:VEVENT
DTSTART;TZID=Europe/Helsinki:20240125T143000
DTEND;TZID=Europe/Helsinki:20240125T153000
DTSTAMP:20260420T075340
CREATED:20240125T083136Z
LAST-MODIFIED:20240125T083136Z
UID:78230-1706193000-1706196600@www.theheritageschool.net
SUMMARY:Indoor Hockey vs Chisipite
DESCRIPTION:
URL:https://www.theheritageschool.net/event/indoor-hockey-vs-chisipite-5/
CATEGORIES:Indoor Hockey,Senior Department,Sports Fixture
ATTACH;FMTTYPE=image/jpeg:https://www.theheritageschool.net/wp-content/uploads/2024/01/Generic-Sports-Image-62-scaled-USF4vJ.tmp_.jpg
END:VEVENT
BEGIN:VEVENT
DTSTART;TZID=Europe/Helsinki:20240125T143000
DTEND;TZID=Europe/Helsinki:20240125T153000
DTSTAMP:20260420T075340
CREATED:20240124T131911Z
LAST-MODIFIED:20240125T080926Z
UID:78141-1706193000-1706196600@www.theheritageschool.net
SUMMARY:Indoor Hockey vs Chisipite (B Team)
DESCRIPTION:Heritage B Team vs Chisipite D Team
URL:https://www.theheritageschool.net/event/indoor-hockey-vs-chisipite-4/
CATEGORIES:Indoor Hockey,Senior Department,Sports Fixture
ATTACH;FMTTYPE=image/jpeg:https://www.theheritageschool.net/wp-content/uploads/2024/01/Generic-Sports-Image-62-scaled-USF4vJ.tmp_.jpg
END:VEVENT
BEGIN:VEVENT
DTSTART;TZID=Europe/Helsinki:20240124T140000
DTEND;TZID=Europe/Helsinki:20240124T163000
DTSTAMP:20260420T075340
CREATED:20240124T131922Z
LAST-MODIFIED:20240124T131922Z
UID:78143-1706104800-1706113800@www.theheritageschool.net
SUMMARY:Basketball vs Eaglesvale
DESCRIPTION:
URL:https://www.theheritageschool.net/event/basketball-vs-eaglesvale/
CATEGORIES:Basketball,Senior Department,Sports Fixture
ATTACH;FMTTYPE=image/jpeg:https://www.theheritageschool.net/wp-content/uploads/2018/10/Generic-Sports-Image-6.jpg
END:VEVENT
BEGIN:VEVENT
DTSTART;TZID=Europe/Helsinki:20240124T140000
DTEND;TZID=Europe/Helsinki:20240124T160000
DTSTAMP:20260420T075340
CREATED:20240124T131823Z
LAST-MODIFIED:20240124T131823Z
UID:78125-1706104800-1706112000@www.theheritageschool.net
SUMMARY:Table Tennis vs Peterhouse College (Boys)
DESCRIPTION:
URL:https://www.theheritageschool.net/event/table-tennis-vs-peterhouse-college-boys/
LOCATION:Peterhouse College (Boys)\, Peterhouse Boys\, P Bag 3741\,\, Marondera\, Marondera\, Marondera\, Zimbabwe
CATEGORIES:Senior Department,Sports Fixture,Table Tennis
ATTACH;FMTTYPE=image/jpeg:https://www.theheritageschool.net/wp-content/uploads/2018/10/Generic-Sports-Image-46.jpg
END:VEVENT
BEGIN:VEVENT
DTSTART;TZID=Europe/Helsinki:20240120T140000
DTEND;TZID=Europe/Helsinki:20240120T163000
DTSTAMP:20260420T075340
CREATED:20240125T083217Z
LAST-MODIFIED:20240125T083217Z
UID:78250-1705759200-1705768200@www.theheritageschool.net
SUMMARY:Boys Individual Swimming Gala
DESCRIPTION:
URL:https://www.theheritageschool.net/event/boys-individual-swimming-gala/
ATTACH;FMTTYPE=image/jpeg:https://www.theheritageschool.net/wp-content/uploads/2018/10/Generic-Sports-Image-58.jpg
END:VEVENT
BEGIN:VEVENT
DTSTART;TZID=Europe/Helsinki:20240120T133000
DTEND;TZID=Europe/Helsinki:20240120T163000
DTSTAMP:20260420T075340
CREATED:20240125T083217Z
LAST-MODIFIED:20240125T083217Z
UID:78249-1705757400-1705768200@www.theheritageschool.net
SUMMARY:Girls Relays Swimming Gala
DESCRIPTION:
URL:https://www.theheritageschool.net/event/girls-relays-swimming-gala/
ATTACH;FMTTYPE=image/jpeg:https://www.theheritageschool.net/wp-content/uploads/2018/10/Generic-Sports-Image-58.jpg
END:VEVENT
BEGIN:VEVENT
DTSTART;TZID=Europe/Helsinki:20240120T090000
DTEND;TZID=Europe/Helsinki:20240120T160000
DTSTAMP:20260420T075340
CREATED:20240124T132004Z
LAST-MODIFIED:20240124T132004Z
UID:78156-1705741200-1705766400@www.theheritageschool.net
SUMMARY:Cricket vs Westridge High
DESCRIPTION:
URL:https://www.theheritageschool.net/event/cricket-vs-westridge-high/
CATEGORIES:Cricket,Senior Department,Sports Fixture
ATTACH;FMTTYPE=image/jpeg:https://www.theheritageschool.net/wp-content/uploads/2018/10/Generic-Sports-Image-10.jpg
END:VEVENT
BEGIN:VEVENT
DTSTART;TZID=Europe/Helsinki:20240120T080000
DTEND;TZID=Europe/Helsinki:20240120T120000
DTSTAMP:20260420T075340
CREATED:20240124T131741Z
LAST-MODIFIED:20240124T131741Z
UID:78108-1705737600-1705752000@www.theheritageschool.net
SUMMARY:Tennis vs Hellenic
DESCRIPTION:
URL:https://www.theheritageschool.net/event/tennis-vs-hellenic/
LOCATION:Hellenic Academy\, 42 Basset Cres\, Harare\, Zimbabwe
CATEGORIES:Senior Department,Sports Fixture,Tennis
ATTACH;FMTTYPE=image/jpeg:https://www.theheritageschool.net/wp-content/uploads/2018/10/Generic-Sports-Image-21.jpg
END:VEVENT
BEGIN:VEVENT
DTSTART;TZID=Europe/Helsinki:20240119T140000
DTEND;TZID=Europe/Helsinki:20240119T163000
DTSTAMP:20260420T075340
CREATED:20240124T131912Z
LAST-MODIFIED:20240124T131912Z
UID:78142-1705672800-1705681800@www.theheritageschool.net
SUMMARY:Basketball vs Tynwald
DESCRIPTION:
URL:https://www.theheritageschool.net/event/basketball-vs-tynwald/
CATEGORIES:Basketball,Senior Department,Sports Fixture
ATTACH;FMTTYPE=image/jpeg:https://www.theheritageschool.net/wp-content/uploads/2018/10/Generic-Sports-Image-6.jpg
END:VEVENT
BEGIN:VEVENT
DTSTART;TZID=Europe/Helsinki:20240119T140000
DTEND;TZID=Europe/Helsinki:20240119T153000
DTSTAMP:20260420T075340
CREATED:20240124T131853Z
LAST-MODIFIED:20240124T131853Z
UID:78134-1705672800-1705678200@www.theheritageschool.net
SUMMARY:Indoor Hockey vs St Georges College
DESCRIPTION:
URL:https://www.theheritageschool.net/event/indoor-hockey-vs-st-georges-college/
CATEGORIES:Indoor Hockey,Senior Department,Sports Fixture
ATTACH;FMTTYPE=image/jpeg:https://www.theheritageschool.net/wp-content/uploads/2024/01/Generic-Sports-Image-62-scaled-USF4vJ.tmp_.jpg
END:VEVENT
BEGIN:VEVENT
DTSTART;TZID=Europe/Helsinki:20240117T150000
DTEND;TZID=Europe/Helsinki:20240117T170000
DTSTAMP:20260420T075340
CREATED:20240124T131824Z
LAST-MODIFIED:20240124T131824Z
UID:78126-1705503600-1705510800@www.theheritageschool.net
SUMMARY:Quiz vs Many Schools
DESCRIPTION:
URL:https://www.theheritageschool.net/event/quiz-vs-many-schools-4/
LOCATION:Prince Edward School\, xx\, Marondera\, Zimbabwe
CATEGORIES:Quiz,Senior Department,Sports Fixture
ATTACH;FMTTYPE=image/jpeg:https://www.theheritageschool.net/wp-content/uploads/2024/01/Generic-Sports-Image-61-scaled-rdH40Z.tmp_.jpg
END:VEVENT
BEGIN:VEVENT
DTSTART;TZID=Europe/Helsinki:20240117T140000
DTEND;TZID=Europe/Helsinki:20240117T163000
DTSTAMP:20260420T075340
CREATED:20240124T131807Z
LAST-MODIFIED:20240124T131807Z
UID:78119-1705500000-1705509000@www.theheritageschool.net
SUMMARY:Basketball vs Lomagundi
DESCRIPTION:
URL:https://www.theheritageschool.net/event/basketball-vs-lomagundi/
LOCATION:Lomagundi College\, M4FQ+RFV\, Chinhoyi\, Chinhoyi\, Chinhoyi\, Zimbabwe
CATEGORIES:Basketball,Senior Department,Sports Fixture
ATTACH;FMTTYPE=image/jpeg:https://www.theheritageschool.net/wp-content/uploads/2018/10/Generic-Sports-Image-6.jpg
END:VEVENT
BEGIN:VEVENT
DTSTART;TZID=Europe/Helsinki:20240117T133000
DTEND;TZID=Europe/Helsinki:20240117T160000
DTSTAMP:20260420T075340
CREATED:20240124T131730Z
LAST-MODIFIED:20240125T083027Z
UID:78101-1705498200-1705507200@www.theheritageschool.net
SUMMARY:Chess vs Bernard Mizeki College
DESCRIPTION:
URL:https://www.theheritageschool.net/event/chess-vs-bernard-mizeki-college/
LOCATION:Bernard Mizeki College\, xx\, Harare\, Zimbabwe
CATEGORIES:Chess,Senior Department,Sports Fixture
ATTACH;FMTTYPE=image/jpeg:https://www.theheritageschool.net/wp-content/uploads/2024/01/Generic-Sports-Image-60-scaled-p4A78d.tmp_.jpg
END:VEVENT
BEGIN:VEVENT
DTSTART;TZID=Europe/Helsinki:20240113T133000
DTEND;TZID=Europe/Helsinki:20240113T163000
DTSTAMP:20260420T075340
CREATED:20240125T083209Z
LAST-MODIFIED:20240125T083209Z
UID:78248-1705152600-1705163400@www.theheritageschool.net
SUMMARY:Hillcrest Girls Swimming Individual Gala
DESCRIPTION:
URL:https://www.theheritageschool.net/event/hillcrest-girls-swimming-individual-gala/
LOCATION:Hillcrest College\, 3JGW+V7R\, Mutare\, Zimbabwe
ATTACH;FMTTYPE=image/jpeg:https://www.theheritageschool.net/wp-content/uploads/2018/10/Generic-Sports-Image-58.jpg
END:VEVENT
BEGIN:VEVENT
DTSTART;TZID=Europe/Helsinki:20240113T090000
DTEND;TZID=Europe/Helsinki:20240113T160000
DTSTAMP:20260420T075340
CREATED:20240124T132003Z
LAST-MODIFIED:20240124T132003Z
UID:78155-1705136400-1705161600@www.theheritageschool.net
SUMMARY:Cricket vs Gateway College
DESCRIPTION:
URL:https://www.theheritageschool.net/event/cricket-vs-gateway-college/
CATEGORIES:Cricket,Senior Department,Sports Fixture
ATTACH;FMTTYPE=image/jpeg:https://www.theheritageschool.net/wp-content/uploads/2018/10/Generic-Sports-Image-10.jpg
END:VEVENT
BEGIN:VEVENT
DTSTART;TZID=Europe/Helsinki:20240113T080000
DTEND;TZID=Europe/Helsinki:20240113T120000
DTSTAMP:20260420T075340
CREATED:20240124T131809Z
LAST-MODIFIED:20240124T131809Z
UID:78121-1705132800-1705147200@www.theheritageschool.net
SUMMARY:Tennis vs Lomagundi College
DESCRIPTION:
URL:https://www.theheritageschool.net/event/tennis-vs-lomagundi-college/
LOCATION:Lomagundi College\, M4FQ+RFV\, Chinhoyi\, Chinhoyi\, Chinhoyi\, Zimbabwe
CATEGORIES:Senior Department,Sports Fixture,Tennis
ATTACH;FMTTYPE=image/jpeg:https://www.theheritageschool.net/wp-content/uploads/2018/10/Generic-Sports-Image-21.jpg
END:VEVENT
BEGIN:VEVENT
DTSTART;TZID=Europe/Helsinki:20240112T140000
DTEND;TZID=Europe/Helsinki:20240112T163000
DTSTAMP:20260420T075340
CREATED:20240124T131826Z
LAST-MODIFIED:20240124T131826Z
UID:78128-1705068000-1705077000@www.theheritageschool.net
SUMMARY:Basketball vs St John's High School
DESCRIPTION:
URL:https://www.theheritageschool.net/event/basketball-vs-st-johns-high-school/
CATEGORIES:Basketball,Senior Department,Sports Fixture
ATTACH;FMTTYPE=image/jpeg:https://www.theheritageschool.net/wp-content/uploads/2018/10/Generic-Sports-Image-6.jpg
END:VEVENT
END:VCALENDAR