BEGIN:VCALENDAR
VERSION:2.0
PRODID:-//The Heritage School - ECPv6.11.2.1//NONSGML v1.0//EN
CALSCALE:GREGORIAN
METHOD:PUBLISH
X-WR-CALNAME:The Heritage School
X-ORIGINAL-URL:https://www.theheritageschool.net
X-WR-CALDESC:Events for The Heritage School
REFRESH-INTERVAL;VALUE=DURATION:PT1H
X-Robots-Tag:noindex
X-PUBLISHED-TTL:PT1H
BEGIN:VTIMEZONE
TZID:Europe/Helsinki
BEGIN:DAYLIGHT
TZOFFSETFROM:+0200
TZOFFSETTO:+0300
TZNAME:EEST
DTSTART:20240331T010000
END:DAYLIGHT
BEGIN:STANDARD
TZOFFSETFROM:+0300
TZOFFSETTO:+0200
TZNAME:EET
DTSTART:20241027T010000
END:STANDARD
END:VTIMEZONE
BEGIN:VEVENT
DTSTART;TZID=Europe/Helsinki:20240209T183000
DTEND;TZID=Europe/Helsinki:20240209T230000
DTSTAMP:20260419T225020
CREATED:20240115T103916Z
LAST-MODIFIED:20240129T080217Z
UID:76170-1707503400-1707519600@www.theheritageschool.net
SUMMARY:Red Cocktail Party
DESCRIPTION:
URL:https://www.theheritageschool.net/event/red-cocktail-party/
LOCATION:Apollo Hall\, Heritage Drive\, Borrowdale Brooke\, Harare\, Zimbabwe
CATEGORIES:School Event
ATTACH;FMTTYPE=image/png:https://www.theheritageschool.net/wp-content/uploads/2024/01/Red-Cocktail-Banner-2024.png
END:VEVENT
BEGIN:VEVENT
DTSTART;TZID=Europe/Helsinki:20240210T090000
DTEND;TZID=Europe/Helsinki:20240210T160000
DTSTAMP:20260419T225020
CREATED:20240124T131926Z
LAST-MODIFIED:20240124T131926Z
UID:78146-1707555600-1707580800@www.theheritageschool.net
SUMMARY:Cricket vs Westridge
DESCRIPTION:
URL:https://www.theheritageschool.net/event/cricket-vs-westridge/
CATEGORIES:Cricket,Senior Department,Sports Fixture
ATTACH;FMTTYPE=image/jpeg:https://www.theheritageschool.net/wp-content/uploads/2018/10/Generic-Sports-Image-10.jpg
END:VEVENT
BEGIN:VEVENT
DTSTART;TZID=Europe/Helsinki:20240210T113000
DTEND;TZID=Europe/Helsinki:20240210T153000
DTSTAMP:20260419T225020
CREATED:20240124T131822Z
LAST-MODIFIED:20240124T131822Z
UID:78124-1707564600-1707579000@www.theheritageschool.net
SUMMARY:Tennis vs Peterhouse College (Boys)
DESCRIPTION:
URL:https://www.theheritageschool.net/event/tennis-vs-peterhouse-college-boys/
LOCATION:Peterhouse College (Boys)\, Peterhouse Boys\, P Bag 3741\,\, Marondera\, Marondera\, Marondera\, Zimbabwe
CATEGORIES:Senior Department,Sports Fixture,Tennis
ATTACH;FMTTYPE=image/jpeg:https://www.theheritageschool.net/wp-content/uploads/2018/10/Generic-Sports-Image-21.jpg
END:VEVENT
BEGIN:VEVENT
DTSTART;TZID=Europe/Helsinki:20240210T140000
DTEND;TZID=Europe/Helsinki:20240210T163000
DTSTAMP:20260419T225020
CREATED:20240125T083220Z
LAST-MODIFIED:20240125T083220Z
UID:78253-1707573600-1707582600@www.theheritageschool.net
SUMMARY:Boys Individual Swimming Gala
DESCRIPTION:
URL:https://www.theheritageschool.net/event/boys-individual-swimming-gala-2/
ATTACH;FMTTYPE=image/jpeg:https://www.theheritageschool.net/wp-content/uploads/2018/10/Generic-Sports-Image-58.jpg
END:VEVENT
BEGIN:VEVENT
DTSTART;TZID=Europe/Helsinki:20240214T140000
DTEND;TZID=Europe/Helsinki:20240214T160000
DTSTAMP:20260419T225020
CREATED:20240124T131755Z
LAST-MODIFIED:20240212T125102Z
UID:78117-1707919200-1707926400@www.theheritageschool.net
SUMMARY:Table tennis vs Kutama College
DESCRIPTION:
URL:https://www.theheritageschool.net/event/table-tennis-vs-kutama-college/
LOCATION:St Francis Xavier’s Kutama College\, 59VP+8C8\, Kutama\, Zvimba\, Zimbabwe
CATEGORIES:Senior Department,Sports Fixture,Table Tennis
ATTACH;FMTTYPE=image/jpeg:https://www.theheritageschool.net/wp-content/uploads/2018/10/Generic-Sports-Image-46.jpg
END:VEVENT
BEGIN:VEVENT
DTSTART;TZID=Europe/Helsinki:20240214T140000
DTEND;TZID=Europe/Helsinki:20240214T163000
DTSTAMP:20260419T225020
CREATED:20240125T083207Z
LAST-MODIFIED:20240212T130016Z
UID:78245-1707919200-1707928200@www.theheritageschool.net
SUMMARY:Boys Basketball vs Prince Edward
DESCRIPTION:
URL:https://www.theheritageschool.net/event/boys-basketball-vs-prince-edward/
LOCATION:The Heritage School\, Heritage Drive\, Harare
ATTACH;FMTTYPE=image/jpeg:https://www.theheritageschool.net/wp-content/uploads/2018/10/Generic-Sports-Image-6.jpg
END:VEVENT
BEGIN:VEVENT
DTSTART;TZID=Europe/Helsinki:20240214T150000
DTEND;TZID=Europe/Helsinki:20240214T170000
DTSTAMP:20260419T225020
CREATED:20240124T131825Z
LAST-MODIFIED:20240124T131825Z
UID:78127-1707922800-1707930000@www.theheritageschool.net
SUMMARY:Quiz vs Many Schools
DESCRIPTION:
URL:https://www.theheritageschool.net/event/quiz-vs-many-schools-5/
LOCATION:St Dominics School\, 664H+VJR St. Dominic's Chishawasha\,\, Ruwa\, Zimbabwe
CATEGORIES:Quiz,Senior Department,Sports Fixture
ATTACH;FMTTYPE=image/jpeg:https://www.theheritageschool.net/wp-content/uploads/2024/01/Generic-Sports-Image-61-scaled-rdH40Z.tmp_.jpg
END:VEVENT
BEGIN:VEVENT
DTSTART;TZID=Europe/Helsinki:20240215T143000
DTEND;TZID=Europe/Helsinki:20240215T153000
DTSTAMP:20260419T225020
CREATED:20240124T131840Z
LAST-MODIFIED:20240212T132926Z
UID:78131-1708007400-1708011000@www.theheritageschool.net
SUMMARY:Indoor Hockey vs Westridge
DESCRIPTION:
URL:https://www.theheritageschool.net/event/indoor-hockey-vs-westridge/
LOCATION:The Heritage School\, Heritage Drive\, Harare
CATEGORIES:Indoor Hockey,Senior Department,Sports Fixture
ATTACH;FMTTYPE=image/jpeg:https://www.theheritageschool.net/wp-content/uploads/2024/01/Generic-Sports-Image-62-scaled-USF4vJ.tmp_.jpg
END:VEVENT
BEGIN:VEVENT
DTSTART;TZID=Europe/Helsinki:20240221T140000
DTEND;TZID=Europe/Helsinki:20240221T160000
DTSTAMP:20260419T225020
CREATED:20240124T131739Z
LAST-MODIFIED:20240124T131739Z
UID:78106-1708524000-1708531200@www.theheritageschool.net
SUMMARY:Chess vs Gateway College
DESCRIPTION:
URL:https://www.theheritageschool.net/event/chess-vs-gateway-college/
LOCATION:Gateway College\, 61 Prices Avenue\, Harare\, Zimbabwe
CATEGORIES:Chess,Senior Department,Sports Fixture
ATTACH;FMTTYPE=image/jpeg:https://www.theheritageschool.net/wp-content/uploads/2024/01/Generic-Sports-Image-60-scaled-p4A78d.tmp_.jpg
END:VEVENT
BEGIN:VEVENT
DTSTART;TZID=Europe/Helsinki:20240223T140000
DTEND;TZID=Europe/Helsinki:20240223T153000
DTSTAMP:20260419T225020
CREATED:20240124T131907Z
LAST-MODIFIED:20240212T133911Z
UID:78138-1708696800-1708702200@www.theheritageschool.net
SUMMARY:Indoor Hockey vs St Jonhs Emarald Hill
DESCRIPTION:
URL:https://www.theheritageschool.net/event/indoor-hockey-vs-st-jonhs-emarald-hill/
LOCATION:The Heritage School\, Heritage Drive\, Harare
CATEGORIES:Indoor Hockey,Senior Department,Sports Fixture
ATTACH;FMTTYPE=image/jpeg:https://www.theheritageschool.net/wp-content/uploads/2024/01/Generic-Sports-Image-62-scaled-USF4vJ.tmp_.jpg
END:VEVENT
BEGIN:VEVENT
DTSTART;TZID=Europe/Helsinki:20240223T143000
DTEND;TZID=Europe/Helsinki:20240223T153000
DTSTAMP:20260419T225020
CREATED:20240124T131856Z
LAST-MODIFIED:20240212T134209Z
UID:78137-1708698600-1708702200@www.theheritageschool.net
SUMMARY:Indoor Hockey vs Arundel School
DESCRIPTION:
URL:https://www.theheritageschool.net/event/indoor-hockey-vs-arundel-school-3/
LOCATION:The Heritage School\, Heritage Drive\, Harare
CATEGORIES:Indoor Hockey,Senior Department,Sports Fixture
ATTACH;FMTTYPE=image/jpeg:https://www.theheritageschool.net/wp-content/uploads/2024/01/Generic-Sports-Image-62-scaled-USF4vJ.tmp_.jpg
END:VEVENT
BEGIN:VEVENT
DTSTART;TZID=Europe/Helsinki:20240223T153000
DTEND;TZID=Europe/Helsinki:20240223T163000
DTSTAMP:20260419T225020
CREATED:20240124T131728Z
LAST-MODIFIED:20240125T083025Z
UID:78099-1708702200-1708705800@www.theheritageschool.net
SUMMARY:Indoor Hockey vs Arundel School
DESCRIPTION:
URL:https://www.theheritageschool.net/event/indoor-hockey-vs-arundel-school/
LOCATION:Arundel School\, 28 Arundel School Rd\, Harare\, Zimbabwe
CATEGORIES:Indoor Hockey,Senior Department,Sports Fixture
ATTACH;FMTTYPE=image/jpeg:https://www.theheritageschool.net/wp-content/uploads/2024/01/Generic-Sports-Image-62-scaled-USF4vJ.tmp_.jpg
END:VEVENT
BEGIN:VEVENT
DTSTART;TZID=Europe/Helsinki:20240223T153000
DTEND;TZID=Europe/Helsinki:20240223T163000
DTSTAMP:20260419T225020
CREATED:20240124T131841Z
LAST-MODIFIED:20240212T134632Z
UID:78132-1708702200-1708705800@www.theheritageschool.net
SUMMARY:Indoor Hockey  vs Chisipite
DESCRIPTION:
URL:https://www.theheritageschool.net/event/indoor-hockey-vs-chisipite-3/
LOCATION:The Heritage School\, Heritage Drive\, Harare
CATEGORIES:Indoor Hockey,Senior Department,Sports Fixture
ATTACH;FMTTYPE=image/jpeg:https://www.theheritageschool.net/wp-content/uploads/2024/01/Generic-Sports-Image-62-scaled-USF4vJ.tmp_.jpg
END:VEVENT
BEGIN:VEVENT
DTSTART;TZID=Europe/Helsinki:20240224T090000
DTEND;TZID=Europe/Helsinki:20240224T150000
DTSTAMP:20260419T225020
CREATED:20240124T131754Z
LAST-MODIFIED:20240124T131754Z
UID:78116-1708765200-1708786800@www.theheritageschool.net
SUMMARY:Cricket vs Hillcrest
DESCRIPTION:
URL:https://www.theheritageschool.net/event/cricket-vs-hillcrest/
LOCATION:Hillcrest College\, 3JGW+V7R\, Mutare\, Zimbabwe
CATEGORIES:Cricket,Senior Department,Sports Fixture
ATTACH;FMTTYPE=image/jpeg:https://www.theheritageschool.net/wp-content/uploads/2018/10/Generic-Sports-Image-10.jpg
END:VEVENT
BEGIN:VEVENT
DTSTART;TZID=Europe/Helsinki:20240224T113000
DTEND;TZID=Europe/Helsinki:20240224T153000
DTSTAMP:20260419T225020
CREATED:20240124T131738Z
LAST-MODIFIED:20240124T131738Z
UID:78105-1708774200-1708788600@www.theheritageschool.net
SUMMARY:Tennis vs Dominican Convent
DESCRIPTION:
URL:https://www.theheritageschool.net/event/tennis-vs-dominican-convent/
LOCATION:Dominican Convent\, 70 Simon Muzenda St\, Harare\, Zimbabwe
CATEGORIES:Senior Department,Sports Fixture,Tennis
ATTACH;FMTTYPE=image/jpeg:https://www.theheritageschool.net/wp-content/uploads/2018/10/Generic-Sports-Image-21.jpg
END:VEVENT
BEGIN:VEVENT
DTSTART;TZID=Europe/Helsinki:20240228T140000
DTEND;TZID=Europe/Helsinki:20240228T160000
DTSTAMP:20260419T225020
CREATED:20240124T131933Z
LAST-MODIFIED:20240124T131933Z
UID:78151-1709128800-1709136000@www.theheritageschool.net
SUMMARY:Table Tennis vs St Ignatius
DESCRIPTION:
URL:https://www.theheritageschool.net/event/table-tennis-vs-st-ignatius/
CATEGORIES:Senior Department,Sports Fixture,Table Tennis
ATTACH;FMTTYPE=image/jpeg:https://www.theheritageschool.net/wp-content/uploads/2018/10/Generic-Sports-Image-46.jpg
END:VEVENT
BEGIN:VEVENT
DTSTART;TZID=Europe/Helsinki:20240228T150000
DTEND;TZID=Europe/Helsinki:20240228T150000
DTSTAMP:20260419T225020
CREATED:20240124T131740Z
LAST-MODIFIED:20240124T131740Z
UID:78107-1709132400-1709132400@www.theheritageschool.net
SUMMARY:Quiz vs Many Schools
DESCRIPTION:
URL:https://www.theheritageschool.net/event/quiz-vs-many-schools-2/
LOCATION:Gateway College\, 61 Prices Avenue\, Harare\, Zimbabwe
CATEGORIES:Quiz,Senior Department,Sports Fixture
ATTACH;FMTTYPE=image/jpeg:https://www.theheritageschool.net/wp-content/uploads/2024/01/Generic-Sports-Image-61-scaled-rdH40Z.tmp_.jpg
END:VEVENT
BEGIN:VEVENT
DTSTART;TZID=Europe/Helsinki:20240301T140000
DTEND;TZID=Europe/Helsinki:20240301T153000
DTSTAMP:20260419T225020
CREATED:20240124T131736Z
LAST-MODIFIED:20240124T131736Z
UID:78104-1709301600-1709307000@www.theheritageschool.net
SUMMARY:Indoor Hockey vs Chisipite
DESCRIPTION:
URL:https://www.theheritageschool.net/event/indoor-hockey-vs-chisipite-2/
LOCATION:Chisipite Senior School\, Hindhead Avenue\, Harare\, Zimbabwe
CATEGORIES:Indoor Hockey,Senior Department,Sports Fixture
ATTACH;FMTTYPE=image/jpeg:https://www.theheritageschool.net/wp-content/uploads/2024/01/Generic-Sports-Image-62-scaled-USF4vJ.tmp_.jpg
END:VEVENT
BEGIN:VEVENT
DTSTART;TZID=Europe/Helsinki:20240301T140000
DTEND;TZID=Europe/Helsinki:20240301T153000
DTSTAMP:20260419T225020
CREATED:20240124T131852Z
LAST-MODIFIED:20240124T131852Z
UID:78133-1709301600-1709307000@www.theheritageschool.net
SUMMARY:Indoor Hockey vs Hellenic
DESCRIPTION:
URL:https://www.theheritageschool.net/event/indoor-hockey-vs-hellenic-3/
CATEGORIES:Indoor Hockey,Senior Department,Sports Fixture
ATTACH;FMTTYPE=image/jpeg:https://www.theheritageschool.net/wp-content/uploads/2024/01/Generic-Sports-Image-62-scaled-USF4vJ.tmp_.jpg
END:VEVENT
BEGIN:VEVENT
DTSTART;TZID=Europe/Helsinki:20240306T140000
DTEND;TZID=Europe/Helsinki:20240306T160000
DTSTAMP:20260419T225020
CREATED:20240124T131934Z
LAST-MODIFIED:20240124T131934Z
UID:78152-1709733600-1709740800@www.theheritageschool.net
SUMMARY:Table Tennis vs Winwood
DESCRIPTION:
URL:https://www.theheritageschool.net/event/table-tennis-vs-winwood/
CATEGORIES:Senior Department,Sports Fixture,Table Tennis
ATTACH;FMTTYPE=image/jpeg:https://www.theheritageschool.net/wp-content/uploads/2018/10/Generic-Sports-Image-46.jpg
END:VEVENT
BEGIN:VEVENT
DTSTART;TZID=Europe/Helsinki:20240308T140000
DTEND;TZID=Europe/Helsinki:20240308T153000
DTSTAMP:20260419T225020
CREATED:20240124T131752Z
LAST-MODIFIED:20240124T131752Z
UID:78114-1709906400-1709911800@www.theheritageschool.net
SUMMARY:Indoor Hockey vs Hellenic
DESCRIPTION:
URL:https://www.theheritageschool.net/event/indoor-hockey-vs-hellenic/
LOCATION:Hellenic Academy\, 42 Basset Cres\, Harare\, Zimbabwe
CATEGORIES:Indoor Hockey,Senior Department,Sports Fixture
ATTACH;FMTTYPE=image/jpeg:https://www.theheritageschool.net/wp-content/uploads/2024/01/Generic-Sports-Image-62-scaled-USF4vJ.tmp_.jpg
END:VEVENT
BEGIN:VEVENT
DTSTART;TZID=Europe/Helsinki:20240308T140000
DTEND;TZID=Europe/Helsinki:20240308T153000
DTSTAMP:20260419T225020
CREATED:20240124T131909Z
LAST-MODIFIED:20240124T131909Z
UID:78139-1709906400-1709911800@www.theheritageschool.net
SUMMARY:Indoor Hockey vs St John's College
DESCRIPTION:
URL:https://www.theheritageschool.net/event/indoor-hockey-vs-st-johns-college/
CATEGORIES:Indoor Hockey,Senior Department,Sports Fixture
ATTACH;FMTTYPE=image/jpeg:https://www.theheritageschool.net/wp-content/uploads/2024/01/Generic-Sports-Image-62-scaled-USF4vJ.tmp_.jpg
END:VEVENT
BEGIN:VEVENT
DTSTART;TZID=Europe/Helsinki:20240313T140000
DTEND;TZID=Europe/Helsinki:20240313T160000
DTSTAMP:20260419T225020
CREATED:20240124T131756Z
LAST-MODIFIED:20240124T131756Z
UID:78118-1710338400-1710345600@www.theheritageschool.net
SUMMARY:Table Tennis vs Kuwadzana High
DESCRIPTION:
URL:https://www.theheritageschool.net/event/table-tennis-vs-kuwadzana-high/
LOCATION:Kuwadzana Secondary High School\, xx\, Harare\, Zimbabwe
CATEGORIES:Senior Department,Sports Fixture,Table Tennis
ATTACH;FMTTYPE=image/jpeg:https://www.theheritageschool.net/wp-content/uploads/2018/10/Generic-Sports-Image-46.jpg
END:VEVENT
BEGIN:VEVENT
DTSTART;TZID=Europe/Helsinki:20240313T150000
DTEND;TZID=Europe/Helsinki:20240313T170000
DTSTAMP:20260419T225020
CREATED:20240124T131732Z
LAST-MODIFIED:20240125T083028Z
UID:78102-1710342000-1710349200@www.theheritageschool.net
SUMMARY:Quiz vs Many Schools
DESCRIPTION:
URL:https://www.theheritageschool.net/event/quiz-vs-many-schools/
LOCATION:Bernard Mizeki College\, xx\, Harare\, Zimbabwe
CATEGORIES:Quiz,Senior Department,Sports Fixture
ATTACH;FMTTYPE=image/jpeg:https://www.theheritageschool.net/wp-content/uploads/2024/01/Generic-Sports-Image-61-scaled-rdH40Z.tmp_.jpg
END:VEVENT
BEGIN:VEVENT
DTSTART;TZID=Europe/Helsinki:20240315T140000
DTEND;TZID=Europe/Helsinki:20240315T153000
DTSTAMP:20260419T225020
CREATED:20240124T131753Z
LAST-MODIFIED:20240124T132133Z
UID:78115-1710511200-1710516600@www.theheritageschool.net
SUMMARY:Indoor Hockey vs Hellenic
DESCRIPTION:
URL:https://www.theheritageschool.net/event/indoor-hockey-vs-hellenic-2/
LOCATION:Hellenic Academy\, 42 Basset Cres\, Harare\, Zimbabwe
CATEGORIES:Indoor Hockey,Senior Department,Sports Fixture
ATTACH;FMTTYPE=image/jpeg:https://www.theheritageschool.net/wp-content/uploads/2024/01/Generic-Sports-Image-62-scaled-USF4vJ.tmp_.jpg
END:VEVENT
BEGIN:VEVENT
DTSTART;TZID=Europe/Helsinki:20240322T140000
DTEND;TZID=Europe/Helsinki:20240322T160000
DTSTAMP:20260419T225020
CREATED:20240124T131959Z
LAST-MODIFIED:20240124T131959Z
UID:78153-1711116000-1711123200@www.theheritageschool.net
SUMMARY:Table Tennis vs Bernard Mizeki
DESCRIPTION:
URL:https://www.theheritageschool.net/event/table-tennis-vs-bernard-mizeki/
CATEGORIES:Senior Department,Sports Fixture,Table Tennis
ATTACH;FMTTYPE=image/jpeg:https://www.theheritageschool.net/wp-content/uploads/2018/10/Generic-Sports-Image-46.jpg
END:VEVENT
BEGIN:VEVENT
DTSTART;TZID=Europe/Helsinki:20240715T133000
DTEND;TZID=Europe/Helsinki:20240715T153000
DTSTAMP:20260419T225020
CREATED:20240715T085028Z
LAST-MODIFIED:20240715T085028Z
UID:78723-1721050200-1721057400@www.theheritageschool.net
SUMMARY:Boys Hockey vs St John's Prep: U13
DESCRIPTION:
URL:https://www.theheritageschool.net/event/boys-hockey-vs-st-johns-prep-u13/
CATEGORIES:Junior Fixtures,Sports Fixture
END:VEVENT
BEGIN:VEVENT
DTSTART;TZID=Europe/Helsinki:20240718T073000
DTEND;TZID=Europe/Helsinki:20240718T083000
DTSTAMP:20260419T225020
CREATED:20240715T090503Z
LAST-MODIFIED:20240715T090503Z
UID:78729-1721287800-1721291400@www.theheritageschool.net
SUMMARY:Reception South Play
DESCRIPTION:
URL:https://www.theheritageschool.net/event/reception-south-play/
CATEGORIES:Infant Department,School Event
END:VEVENT
BEGIN:VEVENT
DTSTART;TZID=Europe/Helsinki:20240718T133000
DTEND;TZID=Europe/Helsinki:20240718T160000
DTSTAMP:20260419T225020
CREATED:20240715T085952Z
LAST-MODIFIED:20240715T091551Z
UID:78725-1721309400-1721318400@www.theheritageschool.net
SUMMARY:Girls Hockey vs Ariel: All Teams
DESCRIPTION:
URL:https://www.theheritageschool.net/event/girls-hockey-vs-ariel-all-teams/
LOCATION:The Heritage School\, Heritage Drive\, Harare
CATEGORIES:Junior Department,Junior Fixtures,Sports Fixture
END:VEVENT
BEGIN:VEVENT
DTSTART;TZID=Europe/Helsinki:20240718T133000
DTEND;TZID=Europe/Helsinki:20240718T160000
DTSTAMP:20260419T225020
CREATED:20240715T090221Z
LAST-MODIFIED:20240715T091858Z
UID:78727-1721309400-1721318400@www.theheritageschool.net
SUMMARY:Boys Hockey vs Ariel: All Teams
DESCRIPTION:
URL:https://www.theheritageschool.net/event/boys-hockey-vs-ariel-all-teams/
LOCATION:Ariel School\, Tarisa Road\, Ruwa
CATEGORIES:Hockey,Junior Department,Junior Fixtures,Sports Fixtures
END:VEVENT
END:VCALENDAR