BEGIN:VCALENDAR
VERSION:2.0
PRODID:-//The Heritage School - ECPv6.11.2.1//NONSGML v1.0//EN
CALSCALE:GREGORIAN
METHOD:PUBLISH
X-ORIGINAL-URL:https://www.theheritageschool.net
X-WR-CALDESC:Events for The Heritage School
REFRESH-INTERVAL;VALUE=DURATION:PT1H
X-Robots-Tag:noindex
X-PUBLISHED-TTL:PT1H
BEGIN:VTIMEZONE
TZID:Europe/Helsinki
BEGIN:DAYLIGHT
TZOFFSETFROM:+0200
TZOFFSETTO:+0300
TZNAME:EEST
DTSTART:20240331T010000
END:DAYLIGHT
BEGIN:STANDARD
TZOFFSETFROM:+0300
TZOFFSETTO:+0200
TZNAME:EET
DTSTART:20241027T010000
END:STANDARD
END:VTIMEZONE
BEGIN:VEVENT
DTSTART;TZID=Europe/Helsinki:20241009T133000
DTEND;TZID=Europe/Helsinki:20241009T160000
DTSTAMP:20260419T175039
CREATED:20240930T134632Z
LAST-MODIFIED:20240930T134632Z
UID:78934-1728480600-1728489600@www.theheritageschool.net
SUMMARY:Cricket vs Wise Owl\, All Teams ~ Boys
DESCRIPTION:
URL:https://www.theheritageschool.net/event/cricket-vs-wise-owl-all-teams-boys/
CATEGORIES:Boys,Cricket,Junior Department
ATTACH;FMTTYPE=image/jpeg:https://www.theheritageschool.net/wp-content/uploads/2024/09/Generic-Sports-Image-53-z5sv09.tmp_.jpg
END:VEVENT
BEGIN:VEVENT
DTSTART;TZID=Europe/Helsinki:20241009T140000
DTEND;TZID=Europe/Helsinki:20241009T163000
DTSTAMP:20260419T175039
CREATED:20240930T134642Z
LAST-MODIFIED:20240930T134642Z
UID:78935-1728482400-1728491400@www.theheritageschool.net
SUMMARY:Basketball vs Peterhouse\, All Teams ~ Boys
DESCRIPTION:
URL:https://www.theheritageschool.net/event/basketball-vs-peterhouse-all-teams-boys/
CATEGORIES:Basketball,Boys,Senior Department
ATTACH;FMTTYPE=image/jpeg:https://www.theheritageschool.net/wp-content/uploads/2024/09/Sports-basketball-300x172-YiCV7e.tmp_.jpg
END:VEVENT
BEGIN:VEVENT
DTSTART;TZID=Europe/Helsinki:20241010T072500
DTEND;TZID=Europe/Helsinki:20241010T075500
DTSTAMP:20260419T175039
CREATED:20240930T134645Z
LAST-MODIFIED:20240930T134645Z
UID:78938-1728545100-1728546900@www.theheritageschool.net
SUMMARY:Sports Assembly\, Y8 to Y13
DESCRIPTION:
URL:https://www.theheritageschool.net/event/sports-assembly-y8-to-y13/
LOCATION:Apollo Hall\, Heritage Drive\, Borrowdale Brooke\, Harare\, Zimbabwe
CATEGORIES:Assembly,Senior Department
ATTACH;FMTTYPE=image/jpeg:https://www.theheritageschool.net/wp-content/uploads/2024/09/Generic-Assembly-image.jpg
END:VEVENT
BEGIN:VEVENT
DTSTART;TZID=Europe/Helsinki:20241010T140000
DTEND;TZID=Europe/Helsinki:20241010T160000
DTSTAMP:20260419T175039
CREATED:20240930T134643Z
LAST-MODIFIED:20240930T134643Z
UID:78936-1728568800-1728576000@www.theheritageschool.net
SUMMARY:Tennis vs Gateway\, U13 B ~ Girls
DESCRIPTION:
URL:https://www.theheritageschool.net/event/tennis-vs-gateway-u13-b-girls/
CATEGORIES:Girls,Junior Department,Tennis
ATTACH;FMTTYPE=image/jpeg:https://www.theheritageschool.net/wp-content/uploads/2024/09/Generic-Sports-Image-20-AbZi26.tmp_.jpg
END:VEVENT
BEGIN:VEVENT
DTSTART;TZID=Europe/Helsinki:20241010T140000
DTEND;TZID=Europe/Helsinki:20241010T160000
DTSTAMP:20260419T175039
CREATED:20240930T134644Z
LAST-MODIFIED:20240930T134644Z
UID:78937-1728568800-1728576000@www.theheritageschool.net
SUMMARY:Tennis vs Barwick\, U13 A ~ Girls
DESCRIPTION:
URL:https://www.theheritageschool.net/event/tennis-vs-barwick-u13-a-girls/
CATEGORIES:Girls,Junior Department,Tennis
ATTACH;FMTTYPE=image/jpeg:https://www.theheritageschool.net/wp-content/uploads/2024/09/Generic-Sports-Image-20-AbZi26.tmp_.jpg
END:VEVENT
BEGIN:VEVENT
DTSTART;VALUE=DATE:20241011
DTEND;VALUE=DATE:20241012
DTSTAMP:20260419T175039
CREATED:20240930T134655Z
LAST-MODIFIED:20240930T134655Z
UID:78940-1728604800-1728691199@www.theheritageschool.net
SUMMARY:International Day of the Girl Child\,
DESCRIPTION:
URL:https://www.theheritageschool.net/event/international-day-of-the-girl-child/
END:VEVENT
BEGIN:VEVENT
DTSTART;TZID=Europe/Helsinki:20241011T072500
DTEND;TZID=Europe/Helsinki:20241011T075500
DTSTAMP:20260419T175039
CREATED:20240930T134655Z
LAST-MODIFIED:20240930T134655Z
UID:78941-1728631500-1728633300@www.theheritageschool.net
SUMMARY:Prefects Assembly\, Y8 to Y13
DESCRIPTION:
URL:https://www.theheritageschool.net/event/prefects-assembly-y8-to-y13/
CATEGORIES:Assembly,Senior Department
ATTACH;FMTTYPE=image/jpeg:https://www.theheritageschool.net/wp-content/uploads/2024/09/Generic-Assembly-image.jpg
END:VEVENT
BEGIN:VEVENT
DTSTART;TZID=Europe/Helsinki:20241011T140000
DTEND;TZID=Europe/Helsinki:20241011T163000
DTSTAMP:20260419T175039
CREATED:20240930T134646Z
LAST-MODIFIED:20240930T134646Z
UID:78939-1728655200-1728664200@www.theheritageschool.net
SUMMARY:Tennis & Cricket vs Barwick\, Y3 to Y7
DESCRIPTION:
URL:https://www.theheritageschool.net/event/tennis-cricket-vs-barwick-y3-to-y7/
CATEGORIES:Junior Department,Tennis
ATTACH;FMTTYPE=image/jpeg:https://www.theheritageschool.net/wp-content/uploads/2024/09/Generic-Sports-Image-20-AbZi26.tmp_.jpg
END:VEVENT
BEGIN:VEVENT
DTSTART;TZID=Europe/Helsinki:20241012T080000
DTEND;TZID=Europe/Helsinki:20241012T123000
DTSTAMP:20260419T175039
CREATED:20240930T134659Z
LAST-MODIFIED:20240930T134659Z
UID:78944-1728720000-1728736200@www.theheritageschool.net
SUMMARY:Tennis vs Peterhouse Girls\, U15 & U14 ~ Girls
DESCRIPTION:
URL:https://www.theheritageschool.net/event/tennis-vs-peterhouse-girls-u15-u14-girls/
CATEGORIES:Girls,Senior Department,Tennis
ATTACH;FMTTYPE=image/jpeg:https://www.theheritageschool.net/wp-content/uploads/2024/09/Generic-Sports-Image-20-AbZi26.tmp_.jpg
END:VEVENT
BEGIN:VEVENT
DTSTART;TZID=Europe/Helsinki:20241012T080000
DTEND;TZID=Europe/Helsinki:20241012T123000
DTSTAMP:20260419T175039
CREATED:20240930T135536Z
LAST-MODIFIED:20240930T135536Z
UID:78945-1728720000-1728736200@www.theheritageschool.net
SUMMARY:Tennis vs Peterhouse Girls\, U16 ~ Girls
DESCRIPTION:
URL:https://www.theheritageschool.net/event/tennis-vs-peterhouse-girls-u16-girls/
CATEGORIES:Girls,Senior Department,Tennis
ATTACH;FMTTYPE=image/jpeg:https://www.theheritageschool.net/wp-content/uploads/2024/09/Generic-Sports-Image-20-AbZi26.tmp_.jpg
END:VEVENT
BEGIN:VEVENT
DTSTART;TZID=Europe/Helsinki:20241012T080000
DTEND;TZID=Europe/Helsinki:20241012T160000
DTSTAMP:20260419T175039
CREATED:20240930T134658Z
LAST-MODIFIED:20240930T134658Z
UID:78943-1728720000-1728748800@www.theheritageschool.net
SUMMARY:Basketball vs St John's College\, U15 ~ Boys
DESCRIPTION:
URL:https://www.theheritageschool.net/event/basketball-vs-st-johns-college-u15-boys/
CATEGORIES:Basketball,Boys,Senior Department
ATTACH;FMTTYPE=image/jpeg:https://www.theheritageschool.net/wp-content/uploads/2024/09/Sports-basketball-300x172-YiCV7e.tmp_.jpg
END:VEVENT
BEGIN:VEVENT
DTSTART;TZID=Europe/Helsinki:20241012T080000
DTEND;TZID=Europe/Helsinki:20241012T160000
DTSTAMP:20260419T175039
CREATED:20240930T135537Z
LAST-MODIFIED:20240930T135537Z
UID:78946-1728720000-1728748800@www.theheritageschool.net
SUMMARY:Scripture Union Revival\, All Teams
DESCRIPTION:
URL:https://www.theheritageschool.net/event/scripture-union-revival-all-teams/
CATEGORIES:Scripture Union,Senior Department
ATTACH;FMTTYPE=image/jpeg:https://www.theheritageschool.net/wp-content/uploads/2024/09/Generic-Scripture-Union-Image.jpeg
END:VEVENT
BEGIN:VEVENT
DTSTART;TZID=Europe/Helsinki:20241013T070000
DTEND;TZID=Europe/Helsinki:20241013T160000
DTSTAMP:20260419T175039
CREATED:20240930T135538Z
LAST-MODIFIED:20240930T135538Z
UID:78947-1728802800-1728835200@www.theheritageschool.net
SUMMARY:Harare Schools Golf\, All Teams
DESCRIPTION:
URL:https://www.theheritageschool.net/event/harare-schools-golf-all-teams/
CATEGORIES:Golf,Senior Department
ATTACH;FMTTYPE=image/jpeg:https://www.theheritageschool.net/wp-content/uploads/2024/09/golf_ball_swing-300x271-SSBE6a.tmp_.jpg
END:VEVENT
BEGIN:VEVENT
DTSTART;TZID=Europe/Helsinki:20241013T083000
DTEND;TZID=Europe/Helsinki:20241013T143000
DTSTAMP:20260419T175039
CREATED:20241009T095906Z
LAST-MODIFIED:20241009T095906Z
UID:78964-1728808200-1728829800@www.theheritageschool.net
SUMMARY:HERITAGE ESCUELA REAL OVIEDO FOOTBALL TOURNAMENT
DESCRIPTION:
URL:https://www.theheritageschool.net/event/heritage-escuela-real-oviedo-football-tournament/
LOCATION:The Heritage School\, Heritage Drive\, Harare
CATEGORIES:Boys,Senior Department,Sport
ATTACH;FMTTYPE=image/jpeg:https://www.theheritageschool.net/wp-content/uploads/2024/10/Oviedo-Football-Tournament-2-scaled.jpg
END:VEVENT
BEGIN:VEVENT
DTSTART;TZID=Europe/Helsinki:20241014T140000
DTEND;TZID=Europe/Helsinki:20241014T160000
DTSTAMP:20260419T175039
CREATED:20240930T135539Z
LAST-MODIFIED:20240930T135539Z
UID:78948-1728914400-1728921600@www.theheritageschool.net
SUMMARY:Tennis vs St John's Prep\, All Teams ~ Boys
DESCRIPTION:
URL:https://www.theheritageschool.net/event/tennis-vs-st-johns-prep-all-teams-boys/
CATEGORIES:Boys,Junior Department,Tennis
ATTACH;FMTTYPE=image/jpeg:https://www.theheritageschool.net/wp-content/uploads/2024/09/Generic-Sports-Image-20-AbZi26.tmp_.jpg
END:VEVENT
BEGIN:VEVENT
DTSTART;TZID=Europe/Helsinki:20241015T072500
DTEND;TZID=Europe/Helsinki:20241015T075500
DTSTAMP:20260419T175039
CREATED:20240930T135541Z
LAST-MODIFIED:20240930T135541Z
UID:78949-1728977100-1728978900@www.theheritageschool.net
SUMMARY:Sports Assembly\, Y8 to Y13
DESCRIPTION:
URL:https://www.theheritageschool.net/event/sports-assembly-y8-to-y13-2/
LOCATION:Apollo Hall\, Heritage Drive\, Borrowdale Brooke\, Harare\, Zimbabwe
CATEGORIES:Assembly,Senior Department
ATTACH;FMTTYPE=image/jpeg:https://www.theheritageschool.net/wp-content/uploads/2024/09/Generic-Assembly-image.jpg
END:VEVENT
BEGIN:VEVENT
DTSTART;TZID=Europe/Helsinki:20241016T072500
DTEND;TZID=Europe/Helsinki:20241016T075500
DTSTAMP:20260419T175039
CREATED:20240930T135558Z
LAST-MODIFIED:20240930T135558Z
UID:78951-1729063500-1729065300@www.theheritageschool.net
SUMMARY:House Assembly\, Y8 to Y13
DESCRIPTION:
URL:https://www.theheritageschool.net/event/house-assembly-y8-to-y13-2/
CATEGORIES:Assembly,Senior Department
ATTACH;FMTTYPE=image/jpeg:https://www.theheritageschool.net/wp-content/uploads/2024/09/Generic-Assembly-image.jpg
END:VEVENT
BEGIN:VEVENT
DTSTART;TZID=Europe/Helsinki:20241016T140000
DTEND;TZID=Europe/Helsinki:20241016T163000
DTSTAMP:20260419T175039
CREATED:20240930T135601Z
LAST-MODIFIED:20240930T135601Z
UID:78953-1729087200-1729096200@www.theheritageschool.net
SUMMARY:Basketball vs Harare International School\, All Teams ~ Boys
DESCRIPTION:
URL:https://www.theheritageschool.net/event/basketball-vs-harare-international-school-all-teams-boys/
CATEGORIES:Basketball,Boys,Senior Department
ATTACH;FMTTYPE=image/jpeg:https://www.theheritageschool.net/wp-content/uploads/2024/09/Sports-basketball-300x172-YiCV7e.tmp_.jpg
END:VEVENT
BEGIN:VEVENT
DTSTART;TZID=Europe/Helsinki:20241016T173000
DTEND;TZID=Europe/Helsinki:20241016T193000
DTSTAMP:20260419T175039
CREATED:20240930T135600Z
LAST-MODIFIED:20240930T135600Z
UID:78952-1729099800-1729107000@www.theheritageschool.net
SUMMARY:Speech and Prize Giving Night\, Y8 to Y13
DESCRIPTION:
URL:https://www.theheritageschool.net/event/speech-and-prize-giving-night-y8-to-y13/
LOCATION:Apollo Hall\, Heritage Drive\, Borrowdale Brooke\, Harare\, Zimbabwe
CATEGORIES:Senior Department,Speech and Prize
ATTACH;FMTTYPE=image/jpeg:https://www.theheritageschool.net/wp-content/uploads/2024/09/Generic-Speech-and-Prize-Giving-Image.jpg
END:VEVENT
BEGIN:VEVENT
DTSTART;TZID=Europe/Helsinki:20241017T072500
DTEND;TZID=Europe/Helsinki:20241017T075500
DTSTAMP:20260419T175039
CREATED:20240930T135621Z
LAST-MODIFIED:20240930T135621Z
UID:78956-1729149900-1729151700@www.theheritageschool.net
SUMMARY:Cultural Assembly\, Y8 to Y13
DESCRIPTION:
URL:https://www.theheritageschool.net/event/cultural-assembly-y8-to-y13-2/
CATEGORIES:Assembly,Senior Department
ATTACH;FMTTYPE=image/jpeg:https://www.theheritageschool.net/wp-content/uploads/2024/09/Generic-Assembly-image.jpg
END:VEVENT
BEGIN:VEVENT
DTSTART;TZID=Europe/Helsinki:20241017T090000
DTEND;TZID=Europe/Helsinki:20241017T123000
DTSTAMP:20260419T175039
CREATED:20240930T135622Z
LAST-MODIFIED:20240930T135622Z
UID:78957-1729155600-1729168200@www.theheritageschool.net
SUMMARY:Photos\, All Teams
DESCRIPTION:
URL:https://www.theheritageschool.net/event/photos-all-teams/
CATEGORIES:All Departments,Photos
ATTACH;FMTTYPE=image/png:https://www.theheritageschool.net/wp-content/uploads/2024/09/camera_photo_gallery_photography_picture-512-300x300-9S2evD.tmp_.png
END:VEVENT
BEGIN:VEVENT
DTSTART;TZID=Europe/Helsinki:20241017T140000
DTEND;TZID=Europe/Helsinki:20241017T160000
DTSTAMP:20260419T175039
CREATED:20240930T135602Z
LAST-MODIFIED:20240930T135602Z
UID:78954-1729173600-1729180800@www.theheritageschool.net
SUMMARY:Tennis vs Twin Rivers\, U13 B ~ Girls
DESCRIPTION:
URL:https://www.theheritageschool.net/event/tennis-vs-twin-rivers-u13-b-girls/
CATEGORIES:Girls,Junior Department,Tennis
ATTACH;FMTTYPE=image/jpeg:https://www.theheritageschool.net/wp-content/uploads/2024/09/Generic-Sports-Image-20-AbZi26.tmp_.jpg
END:VEVENT
BEGIN:VEVENT
DTSTART;TZID=Europe/Helsinki:20241017T140000
DTEND;TZID=Europe/Helsinki:20241017T160000
DTSTAMP:20260419T175039
CREATED:20240930T135603Z
LAST-MODIFIED:20240930T135603Z
UID:78955-1729173600-1729180800@www.theheritageschool.net
SUMMARY:Tennis vs Covent\, U13 A ~ Girls
DESCRIPTION:
URL:https://www.theheritageschool.net/event/tennis-vs-covent-u13-a-girls/
CATEGORIES:Girls,Junior Department,Tennis
ATTACH;FMTTYPE=image/jpeg:https://www.theheritageschool.net/wp-content/uploads/2024/09/Generic-Sports-Image-20-AbZi26.tmp_.jpg
END:VEVENT
BEGIN:VEVENT
DTSTART;VALUE=DATE:20241018
DTEND;VALUE=DATE:20241023
DTSTAMP:20260419T175039
CREATED:20240930T135623Z
LAST-MODIFIED:20240930T135623Z
UID:78958-1729209600-1729641599@www.theheritageschool.net
SUMMARY:Half Term\,
DESCRIPTION:
URL:https://www.theheritageschool.net/event/half-term/
CATEGORIES:All Departments,Half Term
ATTACH;FMTTYPE=image/jpeg:https://www.theheritageschool.net/wp-content/uploads/2024/09/half-term-break-300x150-vrFIGw.tmp_.jpg
END:VEVENT
END:VCALENDAR