BEGIN:VCALENDAR
VERSION:2.0
PRODID:-//The Heritage School - ECPv6.11.2.1//NONSGML v1.0//EN
CALSCALE:GREGORIAN
METHOD:PUBLISH
X-WR-CALNAME:The Heritage School
X-ORIGINAL-URL:https://www.theheritageschool.net
X-WR-CALDESC:Events for The Heritage School
REFRESH-INTERVAL;VALUE=DURATION:PT1H
X-Robots-Tag:noindex
X-PUBLISHED-TTL:PT1H
BEGIN:VTIMEZONE
TZID:Europe/Helsinki
BEGIN:DAYLIGHT
TZOFFSETFROM:+0200
TZOFFSETTO:+0300
TZNAME:EEST
DTSTART:20240331T010000
END:DAYLIGHT
BEGIN:STANDARD
TZOFFSETFROM:+0300
TZOFFSETTO:+0200
TZNAME:EET
DTSTART:20241027T010000
END:STANDARD
END:VTIMEZONE
BEGIN:VEVENT
DTSTART;TZID=Europe/Helsinki:20240113T080000
DTEND;TZID=Europe/Helsinki:20240113T120000
DTSTAMP:20260420T180305
CREATED:20240124T131809Z
LAST-MODIFIED:20240124T131809Z
UID:78121-1705132800-1705147200@www.theheritageschool.net
SUMMARY:Tennis vs Lomagundi College
DESCRIPTION:
URL:https://www.theheritageschool.net/event/tennis-vs-lomagundi-college/
LOCATION:Lomagundi College\, M4FQ+RFV\, Chinhoyi\, Chinhoyi\, Chinhoyi\, Zimbabwe
CATEGORIES:Senior Department,Sports Fixture,Tennis
ATTACH;FMTTYPE=image/jpeg:https://www.theheritageschool.net/wp-content/uploads/2018/10/Generic-Sports-Image-21.jpg
END:VEVENT
BEGIN:VEVENT
DTSTART;TZID=Europe/Helsinki:20240112T140000
DTEND;TZID=Europe/Helsinki:20240112T163000
DTSTAMP:20260420T180305
CREATED:20240124T131826Z
LAST-MODIFIED:20240124T131826Z
UID:78128-1705068000-1705077000@www.theheritageschool.net
SUMMARY:Basketball vs St John's High School
DESCRIPTION:
URL:https://www.theheritageschool.net/event/basketball-vs-st-johns-high-school/
CATEGORIES:Basketball,Senior Department,Sports Fixture
ATTACH;FMTTYPE=image/jpeg:https://www.theheritageschool.net/wp-content/uploads/2018/10/Generic-Sports-Image-6.jpg
END:VEVENT
END:VCALENDAR