BEGIN:VCALENDAR
VERSION:2.0
PRODID:-//The Heritage School - ECPv6.11.2.1//NONSGML v1.0//EN
CALSCALE:GREGORIAN
METHOD:PUBLISH
X-ORIGINAL-URL:https://www.theheritageschool.net
X-WR-CALDESC:Events for The Heritage School
REFRESH-INTERVAL;VALUE=DURATION:PT1H
X-Robots-Tag:noindex
X-PUBLISHED-TTL:PT1H
BEGIN:VTIMEZONE
TZID:Europe/Helsinki
BEGIN:DAYLIGHT
TZOFFSETFROM:+0200
TZOFFSETTO:+0300
TZNAME:EEST
DTSTART:20240331T010000
END:DAYLIGHT
BEGIN:STANDARD
TZOFFSETFROM:+0300
TZOFFSETTO:+0200
TZNAME:EET
DTSTART:20241027T010000
END:STANDARD
END:VTIMEZONE
BEGIN:VEVENT
DTSTART;TZID=Europe/Helsinki:20241004T140000
DTEND;TZID=Europe/Helsinki:20241004T163000
DTSTAMP:20260420T012118
CREATED:20240930T134657Z
LAST-MODIFIED:20240930T134657Z
UID:78942-1728050400-1728059400@www.theheritageschool.net
SUMMARY:Table Tennis vs Gateway High\, All Teams
DESCRIPTION:
URL:https://www.theheritageschool.net/event/table-tennis-vs-gateway-high-all-teams/
CATEGORIES:Senior Department,Table Tennis
ATTACH;FMTTYPE=image/jpeg:https://www.theheritageschool.net/wp-content/uploads/2024/09/heritage_school_table_tennis-300x200-tTjEd9.tmp_.jpg
END:VEVENT
BEGIN:VEVENT
DTSTART;TZID=Europe/Helsinki:20241004T140000
DTEND;TZID=Europe/Helsinki:20241004T163000
DTSTAMP:20260420T012118
CREATED:20240930T134538Z
LAST-MODIFIED:20240930T134538Z
UID:78921-1728050400-1728059400@www.theheritageschool.net
SUMMARY:Table Tennis vs Winhood College\, All Teams
DESCRIPTION:
URL:https://www.theheritageschool.net/event/table-tennis-vs-winhood-college-all-teams/
CATEGORIES:Senior Department,Table Tennis
ATTACH;FMTTYPE=image/jpeg:https://www.theheritageschool.net/wp-content/uploads/2024/09/heritage_school_table_tennis-300x200-tTjEd9.tmp_.jpg
END:VEVENT
BEGIN:VEVENT
DTSTART;TZID=Europe/Helsinki:20240322T140000
DTEND;TZID=Europe/Helsinki:20240322T160000
DTSTAMP:20260420T012118
CREATED:20240124T131959Z
LAST-MODIFIED:20240124T131959Z
UID:78153-1711116000-1711123200@www.theheritageschool.net
SUMMARY:Table Tennis vs Bernard Mizeki
DESCRIPTION:
URL:https://www.theheritageschool.net/event/table-tennis-vs-bernard-mizeki/
CATEGORIES:Senior Department,Sports Fixture,Table Tennis
ATTACH;FMTTYPE=image/jpeg:https://www.theheritageschool.net/wp-content/uploads/2018/10/Generic-Sports-Image-46.jpg
END:VEVENT
BEGIN:VEVENT
DTSTART;TZID=Europe/Helsinki:20240313T140000
DTEND;TZID=Europe/Helsinki:20240313T160000
DTSTAMP:20260420T012118
CREATED:20240124T131756Z
LAST-MODIFIED:20240124T131756Z
UID:78118-1710338400-1710345600@www.theheritageschool.net
SUMMARY:Table Tennis vs Kuwadzana High
DESCRIPTION:
URL:https://www.theheritageschool.net/event/table-tennis-vs-kuwadzana-high/
LOCATION:Kuwadzana Secondary High School\, xx\, Harare\, Zimbabwe
CATEGORIES:Senior Department,Sports Fixture,Table Tennis
ATTACH;FMTTYPE=image/jpeg:https://www.theheritageschool.net/wp-content/uploads/2018/10/Generic-Sports-Image-46.jpg
END:VEVENT
BEGIN:VEVENT
DTSTART;TZID=Europe/Helsinki:20240306T140000
DTEND;TZID=Europe/Helsinki:20240306T160000
DTSTAMP:20260420T012118
CREATED:20240124T131934Z
LAST-MODIFIED:20240124T131934Z
UID:78152-1709733600-1709740800@www.theheritageschool.net
SUMMARY:Table Tennis vs Winwood
DESCRIPTION:
URL:https://www.theheritageschool.net/event/table-tennis-vs-winwood/
CATEGORIES:Senior Department,Sports Fixture,Table Tennis
ATTACH;FMTTYPE=image/jpeg:https://www.theheritageschool.net/wp-content/uploads/2018/10/Generic-Sports-Image-46.jpg
END:VEVENT
BEGIN:VEVENT
DTSTART;TZID=Europe/Helsinki:20240228T140000
DTEND;TZID=Europe/Helsinki:20240228T160000
DTSTAMP:20260420T012118
CREATED:20240124T131933Z
LAST-MODIFIED:20240124T131933Z
UID:78151-1709128800-1709136000@www.theheritageschool.net
SUMMARY:Table Tennis vs St Ignatius
DESCRIPTION:
URL:https://www.theheritageschool.net/event/table-tennis-vs-st-ignatius/
CATEGORIES:Senior Department,Sports Fixture,Table Tennis
ATTACH;FMTTYPE=image/jpeg:https://www.theheritageschool.net/wp-content/uploads/2018/10/Generic-Sports-Image-46.jpg
END:VEVENT
BEGIN:VEVENT
DTSTART;TZID=Europe/Helsinki:20240214T140000
DTEND;TZID=Europe/Helsinki:20240214T160000
DTSTAMP:20260420T012118
CREATED:20240124T131755Z
LAST-MODIFIED:20240212T125102Z
UID:78117-1707919200-1707926400@www.theheritageschool.net
SUMMARY:Table tennis vs Kutama College
DESCRIPTION:
URL:https://www.theheritageschool.net/event/table-tennis-vs-kutama-college/
LOCATION:St Francis Xavier’s Kutama College\, 59VP+8C8\, Kutama\, Zvimba\, Zimbabwe
CATEGORIES:Senior Department,Sports Fixture,Table Tennis
ATTACH;FMTTYPE=image/jpeg:https://www.theheritageschool.net/wp-content/uploads/2018/10/Generic-Sports-Image-46.jpg
END:VEVENT
BEGIN:VEVENT
DTSTART;TZID=Europe/Helsinki:20240209T140000
DTEND;TZID=Europe/Helsinki:20240209T160000
DTSTAMP:20260420T012118
CREATED:20240124T131931Z
LAST-MODIFIED:20240124T131931Z
UID:78149-1707487200-1707494400@www.theheritageschool.net
SUMMARY:Table Tennis vs Gateway College
DESCRIPTION:
URL:https://www.theheritageschool.net/event/table-tennis-vs-gateway-college/
CATEGORIES:Senior Department,Sports Fixture,Table Tennis
ATTACH;FMTTYPE=image/jpeg:https://www.theheritageschool.net/wp-content/uploads/2018/10/Generic-Sports-Image-46.jpg
END:VEVENT
BEGIN:VEVENT
DTSTART;TZID=Europe/Helsinki:20240131T140000
DTEND;TZID=Europe/Helsinki:20240131T160000
DTSTAMP:20260420T012118
CREATED:20240124T131930Z
LAST-MODIFIED:20240129T062353Z
UID:78148-1706709600-1706716800@www.theheritageschool.net
SUMMARY:Table Tennis vs St Georges & Dominican Convent
DESCRIPTION:
URL:https://www.theheritageschool.net/event/table-tennis-vs-st-georges-domincan-dominican-convent/
CATEGORIES:Senior Department,Sports Fixture,Table Tennis
ATTACH;FMTTYPE=image/jpeg:https://www.theheritageschool.net/wp-content/uploads/2018/10/Generic-Sports-Image-46.jpg
END:VEVENT
BEGIN:VEVENT
DTSTART;TZID=Europe/Helsinki:20240124T140000
DTEND;TZID=Europe/Helsinki:20240124T160000
DTSTAMP:20260420T012118
CREATED:20240124T131823Z
LAST-MODIFIED:20240124T131823Z
UID:78125-1706104800-1706112000@www.theheritageschool.net
SUMMARY:Table Tennis vs Peterhouse College (Boys)
DESCRIPTION:
URL:https://www.theheritageschool.net/event/table-tennis-vs-peterhouse-college-boys/
LOCATION:Peterhouse College (Boys)\, Peterhouse Boys\, P Bag 3741\,\, Marondera\, Marondera\, Marondera\, Zimbabwe
CATEGORIES:Senior Department,Sports Fixture,Table Tennis
ATTACH;FMTTYPE=image/jpeg:https://www.theheritageschool.net/wp-content/uploads/2018/10/Generic-Sports-Image-46.jpg
END:VEVENT
END:VCALENDAR