BEGIN:VCALENDAR
VERSION:2.0
PRODID:-//The Heritage School - ECPv6.11.2.1//NONSGML v1.0//EN
CALSCALE:GREGORIAN
METHOD:PUBLISH
X-WR-CALNAME:The Heritage School
X-ORIGINAL-URL:https://www.theheritageschool.net
X-WR-CALDESC:Events for The Heritage School
REFRESH-INTERVAL;VALUE=DURATION:PT1H
X-Robots-Tag:noindex
X-PUBLISHED-TTL:PT1H
BEGIN:VTIMEZONE
TZID:Europe/Helsinki
BEGIN:DAYLIGHT
TZOFFSETFROM:+0200
TZOFFSETTO:+0300
TZNAME:EEST
DTSTART:20240331T010000
END:DAYLIGHT
BEGIN:STANDARD
TZOFFSETFROM:+0300
TZOFFSETTO:+0200
TZNAME:EET
DTSTART:20241027T010000
END:STANDARD
END:VTIMEZONE
BEGIN:VEVENT
DTSTART;TZID=Europe/Helsinki:20240915T100000
DTEND;TZID=Europe/Helsinki:20240915T170000
DTSTAMP:20260420T002531
CREATED:20240927T131341Z
LAST-MODIFIED:20240930T134402Z
UID:78863-1726394400-1726419600@www.theheritageschool.net
SUMMARY:Tennis vs Arundel\, 1st & U16 ~ Girls (Away)
DESCRIPTION:
URL:https://www.theheritageschool.net/event/tennis-vs-arundel-1st-u16-girls-away/
CATEGORIES:Girls,Senior Department,Tennis
ATTACH;FMTTYPE=image/jpeg:https://www.theheritageschool.net/wp-content/uploads/2024/09/Generic-Sports-Image-20-AbZi26.tmp_.jpg
END:VEVENT
END:VCALENDAR