BEGIN:VCALENDAR
VERSION:2.0
PRODID:-//The Heritage School - ECPv6.11.2.1//NONSGML v1.0//EN
CALSCALE:GREGORIAN
METHOD:PUBLISH
X-ORIGINAL-URL:https://www.theheritageschool.net
X-WR-CALDESC:Events for The Heritage School
REFRESH-INTERVAL;VALUE=DURATION:PT1H
X-Robots-Tag:noindex
X-PUBLISHED-TTL:PT1H
BEGIN:VTIMEZONE
TZID:Europe/Helsinki
BEGIN:DAYLIGHT
TZOFFSETFROM:+0200
TZOFFSETTO:+0300
TZNAME:EEST
DTSTART:20240331T010000
END:DAYLIGHT
BEGIN:STANDARD
TZOFFSETFROM:+0300
TZOFFSETTO:+0200
TZNAME:EET
DTSTART:20241027T010000
END:STANDARD
END:VTIMEZONE
BEGIN:VEVENT
DTSTART;TZID=Europe/Helsinki:20241008T140000
DTEND;TZID=Europe/Helsinki:20241008T160000
DTSTAMP:20260419T231059
CREATED:20240930T134629Z
LAST-MODIFIED:20240930T134629Z
UID:78932-1728396000-1728403200@www.theheritageschool.net
SUMMARY:Tennis vs Ruzawi\, Y3 ~ Girls
DESCRIPTION:
URL:https://www.theheritageschool.net/event/tennis-vs-ruzawi-y3-girls/
CATEGORIES:Girls,Junior Department,Tennis
ATTACH;FMTTYPE=image/jpeg:https://www.theheritageschool.net/wp-content/uploads/2024/09/Generic-Sports-Image-20-AbZi26.tmp_.jpg
END:VEVENT
BEGIN:VEVENT
DTSTART;TZID=Europe/Helsinki:20241008T140000
DTEND;TZID=Europe/Helsinki:20241008T160000
DTSTAMP:20260419T231059
CREATED:20240930T134628Z
LAST-MODIFIED:20240930T134628Z
UID:78931-1728396000-1728403200@www.theheritageschool.net
SUMMARY:Volleyball vs Twin Rivers\, U14 ~ Girls
DESCRIPTION:
URL:https://www.theheritageschool.net/event/volleyball-vs-twin-rivers-u14-girls/
CATEGORIES:Girls,Junior Department,Volleyball
ATTACH;FMTTYPE=image/jpeg:https://www.theheritageschool.net/wp-content/uploads/2024/09/volleyball-generic.jpeg
END:VEVENT
BEGIN:VEVENT
DTSTART;TZID=Europe/Helsinki:20241005T113000
DTEND;TZID=Europe/Helsinki:20241005T150000
DTSTAMP:20260419T231059
CREATED:20240930T134546Z
LAST-MODIFIED:20240930T134546Z
UID:78926-1728127800-1728140400@www.theheritageschool.net
SUMMARY:Tennis vs Lomagundi College\, U16\, U15 & U14 ~ Girls
DESCRIPTION:
URL:https://www.theheritageschool.net/event/tennis-vs-lomagundi-college-u16-u15-u14-girls/
LOCATION:Lomagundi College\, M4FQ+RFV\, Chinhoyi\, Chinhoyi\, Chinhoyi\, Zimbabwe
CATEGORIES:Girls,Senior Department,Tennis
ATTACH;FMTTYPE=image/jpeg:https://www.theheritageschool.net/wp-content/uploads/2024/09/Generic-Sports-Image-20-AbZi26.tmp_.jpg
END:VEVENT
BEGIN:VEVENT
DTSTART;TZID=Europe/Helsinki:20241003T140000
DTEND;TZID=Europe/Helsinki:20241003T160000
DTSTAMP:20260419T231059
CREATED:20240930T134415Z
LAST-MODIFIED:20240930T134421Z
UID:78909-1727964000-1727971200@www.theheritageschool.net
SUMMARY:Tennis vs Gateway\, U13 A & U13 B ~ Girls
DESCRIPTION:
URL:https://www.theheritageschool.net/event/tennis-vs-gateway-u13-a-u13-b-girls/
CATEGORIES:Girls,Junior Department,Tennis
ATTACH;FMTTYPE=image/jpeg:https://www.theheritageschool.net/wp-content/uploads/2024/09/Generic-Sports-Image-20-AbZi26.tmp_.jpg
END:VEVENT
BEGIN:VEVENT
DTSTART;TZID=Europe/Helsinki:20241002T140000
DTEND;TZID=Europe/Helsinki:20241002T153000
DTSTAMP:20260419T231059
CREATED:20240930T134404Z
LAST-MODIFIED:20240930T134404Z
UID:78904-1727877600-1727883000@www.theheritageschool.net
SUMMARY:Volleyball vs Gateway\, U13 & U11 ~ Girls
DESCRIPTION:
URL:https://www.theheritageschool.net/event/volleyball-vs-gateway-u13-u11-girls/
CATEGORIES:Girls,Junior Department,Volleyball
ATTACH;FMTTYPE=image/jpeg:https://www.theheritageschool.net/wp-content/uploads/2024/09/volleyball-generic.jpeg
END:VEVENT
BEGIN:VEVENT
DTSTART;TZID=Europe/Helsinki:20240915T100000
DTEND;TZID=Europe/Helsinki:20240915T170000
DTSTAMP:20260419T231059
CREATED:20240927T131341Z
LAST-MODIFIED:20240930T134402Z
UID:78863-1726394400-1726419600@www.theheritageschool.net
SUMMARY:Tennis vs Arundel\, 1st & U16 ~ Girls (Away)
DESCRIPTION:
URL:https://www.theheritageschool.net/event/tennis-vs-arundel-1st-u16-girls-away/
CATEGORIES:Girls,Senior Department,Tennis
ATTACH;FMTTYPE=image/jpeg:https://www.theheritageschool.net/wp-content/uploads/2024/09/Generic-Sports-Image-20-AbZi26.tmp_.jpg
END:VEVENT
END:VCALENDAR