BEGIN:VCALENDAR
VERSION:2.0
PRODID:-//The Heritage School - ECPv6.11.2.1//NONSGML v1.0//EN
CALSCALE:GREGORIAN
METHOD:PUBLISH
X-WR-CALNAME:The Heritage School
X-ORIGINAL-URL:https://www.theheritageschool.net
X-WR-CALDESC:Events for The Heritage School
REFRESH-INTERVAL;VALUE=DURATION:PT1H
X-Robots-Tag:noindex
X-PUBLISHED-TTL:PT1H
BEGIN:VTIMEZONE
TZID:Europe/Helsinki
BEGIN:DAYLIGHT
TZOFFSETFROM:+0200
TZOFFSETTO:+0300
TZNAME:EEST
DTSTART:20240331T010000
END:DAYLIGHT
BEGIN:STANDARD
TZOFFSETFROM:+0300
TZOFFSETTO:+0200
TZNAME:EET
DTSTART:20241027T010000
END:STANDARD
END:VTIMEZONE
BEGIN:VEVENT
DTSTART;VALUE=DATE:20241004
DTEND;VALUE=DATE:20241005
DTSTAMP:20260420T031031
CREATED:20240930T134534Z
LAST-MODIFIED:20240930T134534Z
UID:78917-1728000000-1728086399@www.theheritageschool.net
SUMMARY:Art Exhibition\, Y8 to Y13
DESCRIPTION:
URL:https://www.theheritageschool.net/event/art-exhibition-y8-to-y13/
LOCATION:Apollo Hall\, Heritage Drive\, Borrowdale Brooke\, Harare\, Zimbabwe
CATEGORIES:Exhibition,Senior Department
ATTACH;FMTTYPE=image/jpeg:https://www.theheritageschool.net/wp-content/uploads/2024/09/National-art-prize-1st-2019-copy-1-300x241-z6rGp7.tmp_.jpg
END:VEVENT
END:VCALENDAR